Workbook

Sheet Results
A1: Tangency portfolio
A2: Sample | B2: Dec 2004 to Sep 2026
A3: Months | B3: =COUNT('Monthly excess returns'!$B$2:$B$263) -> 262
A4: Annualized risk-free rate (input) | B4: 0.04
A5: Excess returns | B5: monthly return minus French monthly RF
A6: Annualization | B6: means and covariances x 12, std devs x sqrt(12)
A8: Excess returns: means and standard deviations (annualized)
B9: Mean | C9: Std dev
A10: SPY | B10: =AVERAGE('Monthly excess returns'!$B$2:$B$263)*12 -> 0.097951144 | C10: =STDEV('Monthly excess returns'!$B$2:$B$263)*SQRT(12) -> 0.14781212
A11: TLT | B11: =AVERAGE('Monthly excess returns'!$C$2:$C$263)*12 -> 0.019504617 | C11: =STDEV('Monthly excess returns'!$C$2:$C$263)*SQRT(12) -> 0.13627723
A12: GLD | B12: =AVERAGE('Monthly excess returns'!$D$2:$D$263)*12 -> 0.095581915 | C12: =STDEV('Monthly excess returns'!$D$2:$D$263)*SQRT(12) -> 0.17241835
A14: Correlation matrix
B15: SPY | C15: TLT | D15: GLD
A16: SPY | B16: =CORREL('Monthly excess returns'!$B$2:$B$263,'Monthly excess returns'!$B$2:$B$263) -> 1 | C16: =CORREL('Monthly excess returns'!$B$2:$B$263,'Monthly excess returns'!$C$2:$C$263) -> -0.080678846 | D16: =CORREL('Monthly excess returns'!$B$2:$B$263,'Monthly excess returns'!$D$2:$D$263) -> 0.082916146
A17: TLT | B17: =CORREL('Monthly excess returns'!$C$2:$C$263,'Monthly excess returns'!$B$2:$B$263) -> -0.080678846 | C17: =CORREL('Monthly excess returns'!$C$2:$C$263,'Monthly excess returns'!$C$2:$C$263) -> 1 | D17: =CORREL('Monthly excess returns'!$C$2:$C$263,'Monthly excess returns'!$D$2:$D$263) -> 0.23153423
A18: GLD | B18: =CORREL('Monthly excess returns'!$D$2:$D$263,'Monthly excess returns'!$B$2:$B$263) -> 0.082916146 | C18: =CORREL('Monthly excess returns'!$D$2:$D$263,'Monthly excess returns'!$C$2:$C$263) -> 0.23153423 | D18: =CORREL('Monthly excess returns'!$D$2:$D$263,'Monthly excess returns'!$D$2:$D$263) -> 1
A20: Covariance matrix (annualized)
B21: SPY | C21: TLT | D21: GLD
A22: SPY | B22: =B16*$C$10*$C$10 -> 0.021848422 | C22: =C16*$C$10*$C$11 -> -0.0016251484 | D22: =D16*$C$10*$C$12 -> 0.0021131612
A23: TLT | B23: =B17*$C$11*$C$10 -> -0.0016251484 | C23: =C17*$C$11*$C$11 -> 0.018571484 | D23: =D17*$C$11*$C$12 -> 0.0054402894
A24: GLD | B24: =B18*$C$12*$C$10 -> 0.0021131612 | C24: =C18*$C$12*$C$11 -> 0.0054402894 | D24: =D18*$C$12*$C$12 -> 0.029728088
A26: Inverse covariance matrix
B27: SPY | C27: TLT | D27: GLD
A28: SPY | B28: =INDEX(MINVERSE($B$22:$D$24),1,1) -> 46.581129 | C28: =INDEX(MINVERSE($B$22:$D$24),1,2) -> 5.3320011 | D28: =INDEX(MINVERSE($B$22:$D$24),1,3) -> -4.2868908
A29: TLT | B29: =INDEX(MINVERSE($B$22:$D$24),2,1) -> 5.3320011 | C29: =INDEX(MINVERSE($B$22:$D$24),2,2) -> 57.506422 | D29: =INDEX(MINVERSE($B$22:$D$24),2,3) -> -10.902785
A30: GLD | B30: =INDEX(MINVERSE($B$22:$D$24),3,1) -> -4.2868908 | C30: =INDEX(MINVERSE($B$22:$D$24),3,2) -> -10.902785 | D30: =INDEX(MINVERSE($B$22:$D$24),3,3) -> 35.938174
A32: Inverse covariance matrix times risk premia
B33: Value
A34: SPY | B34: =INDEX(MMULT($B$28:$D$30,$B$10:$B$12),1,1) -> 4.2569243
A35: TLT | B35: =INDEX(MMULT($B$28:$D$30,$B$10:$B$12),2,1) -> 0.60180725
A36: GLD | B36: =INDEX(MMULT($B$28:$D$30,$B$10:$B$12),3,1) -> 2.802479
A38: Tangency portfolio
B39: Weight
A40: SPY | B40: =B34/SUM($B$34:$B$36) -> 0.55564643
A41: TLT | B41: =B35/SUM($B$34:$B$36) -> 0.078552501
A42: GLD | B42: =B36/SUM($B$34:$B$36) -> 0.36580107
A43: Expected excess return | B43: =SUMPRODUCT($B$40:$B$42,$B$10:$B$12) -> 0.090922307
A44: Expected return (input risk-free rate + excess) | B44: =$B$4+B43 -> 0.13092231
A45: Standard deviation | B45: =SQRT(SUMPRODUCT(MMULT($B$22:$D$24,$B$40:$B$42),$B$40:$B$42)) -> 0.10893979
A46: Sharpe ratio | B46: =B43/B45 -> 0.83461065
A48: =IF(SUM($B$34:$B$36)<0,"Warning: the entries of inverse covariance times risk premia sum to a negative number. The weights above then give the minimum, not the maximum, Sharpe ratio portfolio.","")

Sheet Adjusted closes
A1: Month | B1: SPY | C1: TLT | D1: GLD
A2: 2004-11 | B2: 78.978279 | C2: 42.321732 | D2: 45.119999
A3: 2004-12 | B3: 81.357185 | C3: 43.446972 | D3: 43.799999
A4: 2005-01 | B4: 79.533096 | C4: 44.997406 | D4: 42.220001
A5: 2005-02 | B5: 81.195694 | C5: 44.334988 | D5: 43.529999
A6: 2005-03 | B6: 79.710365 | C6: 44.133423 | D6: 42.82
A7: 2005-04 | B7: 78.216965 | C7: 45.839256 | D7: 43.349998
A8: 2005-05 | B8: 80.737503 | C8: 47.277462 | D8: 41.650002
A9: 2005-06 | B9: 80.859787 | C9: 48.300938 | D9: 43.439999
A10: 2005-07 | B10: 83.953621 | C10: 46.667953 | D10: 42.82
A11: 2005-08 | B11: 83.166611 | C11: 48.29039 | D11: 43.400002
A12: 2005-09 | B12: 83.834023 | C12: 46.545719 | D12: 46.700001
A13: 2005-10 | B13: 81.851273 | C13: 45.502659 | D13: 46.400002
... A264: 2026-09 | B264: 762.63 | C264: 77.467995 | D264: 380.84

Sheet Monthly returns and RF
A1: Month | B1: SPY | C1: TLT | D1: GLD | E1: RF
A2: 2004-12 | B2: ='Adjusted closes'!B3/'Adjusted closes'!B2-1 -> 0.030121019 | C2: ='Adjusted closes'!C3/'Adjusted closes'!C2-1 -> 0.026587767 | D2: ='Adjusted closes'!D3/'Adjusted closes'!D2-1 -> -0.029255313 | E2: 0.0016
A3: 2005-01 | B3: ='Adjusted closes'!B4/'Adjusted closes'!B3-1 -> -0.022420749 | C3: ='Adjusted closes'!C4/'Adjusted closes'!C3-1 -> 0.035685666 | D3: ='Adjusted closes'!D4/'Adjusted closes'!D3-1 -> -0.036073015 | E3: 0.0016
A4: 2005-02 | B4: ='Adjusted closes'!B5/'Adjusted closes'!B4-1 -> 0.020904475 | C4: ='Adjusted closes'!C5/'Adjusted closes'!C4-1 -> -0.014721257 | D4: ='Adjusted closes'!D5/'Adjusted closes'!D4-1 -> 0.03102789 | E4: 0.0016
A5: 2005-03 | B5: ='Adjusted closes'!B6/'Adjusted closes'!B5-1 -> -0.018293195 | C5: ='Adjusted closes'!C6/'Adjusted closes'!C5-1 -> -0.0045464045 | D5: ='Adjusted closes'!D6/'Adjusted closes'!D5-1 -> -0.01631057 | E5: 0.0021
A6: 2005-04 | B6: ='Adjusted closes'!B7/'Adjusted closes'!B6-1 -> -0.018735337 | C6: ='Adjusted closes'!C7/'Adjusted closes'!C6-1 -> 0.038651737 | D6: ='Adjusted closes'!D7/'Adjusted closes'!D6-1 -> 0.012377365 | E6: 0.0021
A7: 2005-05 | B7: ='Adjusted closes'!B8/'Adjusted closes'!B7-1 -> 0.032224957 | C7: ='Adjusted closes'!C8/'Adjusted closes'!C7-1 -> 0.031374979 | D7: ='Adjusted closes'!D8/'Adjusted closes'!D7-1 -> -0.039215617 | E7: 0.0024
A8: 2005-06 | B8: ='Adjusted closes'!B9/'Adjusted closes'!B8-1 -> 0.0015145865 | C8: ='Adjusted closes'!C9/'Adjusted closes'!C8-1 -> 0.021648278 | D8: ='Adjusted closes'!D9/'Adjusted closes'!D8-1 -> 0.04297712 | E8: 0.0023
A9: 2005-07 | B9: ='Adjusted closes'!B10/'Adjusted closes'!B9-1 -> 0.038261713 | C9: ='Adjusted closes'!C10/'Adjusted closes'!C9-1 -> -0.03380854 | D9: ='Adjusted closes'!D10/'Adjusted closes'!D9-1 -> -0.014272536 | E9: 0.0024
A10: 2005-08 | B10: ='Adjusted closes'!B11/'Adjusted closes'!B10-1 -> -0.0093743448 | C10: ='Adjusted closes'!C11/'Adjusted closes'!C10-1 -> 0.034765538 | D10: ='Adjusted closes'!D11/'Adjusted closes'!D10-1 -> 0.013545115 | E10: 0.003
A11: 2005-09 | B11: ='Adjusted closes'!B12/'Adjusted closes'!B11-1 -> 0.008024997 | C11: ='Adjusted closes'!C12/'Adjusted closes'!C11-1 -> -0.036128738 | D11: ='Adjusted closes'!D12/'Adjusted closes'!D11-1 -> 0.076036846 | E11: 0.0029
A12: 2005-10 | B12: ='Adjusted closes'!B13/'Adjusted closes'!B12-1 -> -0.023650898 | C12: ='Adjusted closes'!C13/'Adjusted closes'!C12-1 -> -0.022409371 | D12: ='Adjusted closes'!D13/'Adjusted closes'!D12-1 -> -0.0064239664 | E12: 0.0027
A13: 2005-11 | B13: ='Adjusted closes'!B14/'Adjusted closes'!B13-1 -> 0.043952552 | C13: ='Adjusted closes'!C14/'Adjusted closes'!C13-1 -> 0.0069026057 | D13: ='Adjusted closes'!D14/'Adjusted closes'!D13-1 -> 0.058189587 | E13: 0.0031
... A263: 2026-09 | B263: ='Adjusted closes'!B264/'Adjusted closes'!B263-1 -> -0.0032934178 | C263: ='Adjusted closes'!C264/'Adjusted closes'!C263-1 -> -0.05382884 | D263: ='Adjusted closes'!D264/'Adjusted closes'!D263-1 -> -0.067528564 | E263: 0.0031

Sheet Monthly excess returns
A1: Month | B1: SPY | C1: TLT | D1: GLD
A2: ='Monthly returns and RF'!A2 -> 2004-12 | B2: ='Monthly returns and RF'!B2-'Monthly returns and RF'!$E2 -> 0.028521019 | C2: ='Monthly returns and RF'!C2-'Monthly returns and RF'!$E2 -> 0.024987767 | D2: ='Monthly returns and RF'!D2-'Monthly returns and RF'!$E2 -> -0.030855313
A3: ='Monthly returns and RF'!A3 -> 2005-01 | B3: ='Monthly returns and RF'!B3-'Monthly returns and RF'!$E3 -> -0.024020749 | C3: ='Monthly returns and RF'!C3-'Monthly returns and RF'!$E3 -> 0.034085666 | D3: ='Monthly returns and RF'!D3-'Monthly returns and RF'!$E3 -> -0.037673015
A4: ='Monthly returns and RF'!A4 -> 2005-02 | B4: ='Monthly returns and RF'!B4-'Monthly returns and RF'!$E4 -> 0.019304475 | C4: ='Monthly returns and RF'!C4-'Monthly returns and RF'!$E4 -> -0.016321257 | D4: ='Monthly returns and RF'!D4-'Monthly returns and RF'!$E4 -> 0.02942789
A5: ='Monthly returns and RF'!A5 -> 2005-03 | B5: ='Monthly returns and RF'!B5-'Monthly returns and RF'!$E5 -> -0.020393195 | C5: ='Monthly returns and RF'!C5-'Monthly returns and RF'!$E5 -> -0.0066464045 | D5: ='Monthly returns and RF'!D5-'Monthly returns and RF'!$E5 -> -0.01841057
A6: ='Monthly returns and RF'!A6 -> 2005-04 | B6: ='Monthly returns and RF'!B6-'Monthly returns and RF'!$E6 -> -0.020835337 | C6: ='Monthly returns and RF'!C6-'Monthly returns and RF'!$E6 -> 0.036551737 | D6: ='Monthly returns and RF'!D6-'Monthly returns and RF'!$E6 -> 0.010277365
A7: ='Monthly returns and RF'!A7 -> 2005-05 | B7: ='Monthly returns and RF'!B7-'Monthly returns and RF'!$E7 -> 0.029824957 | C7: ='Monthly returns and RF'!C7-'Monthly returns and RF'!$E7 -> 0.028974979 | D7: ='Monthly returns and RF'!D7-'Monthly returns and RF'!$E7 -> -0.041615617
A8: ='Monthly returns and RF'!A8 -> 2005-06 | B8: ='Monthly returns and RF'!B8-'Monthly returns and RF'!$E8 -> -0.00078541346 | C8: ='Monthly returns and RF'!C8-'Monthly returns and RF'!$E8 -> 0.019348278 | D8: ='Monthly returns and RF'!D8-'Monthly returns and RF'!$E8 -> 0.04067712
A9: ='Monthly returns and RF'!A9 -> 2005-07 | B9: ='Monthly returns and RF'!B9-'Monthly returns and RF'!$E9 -> 0.035861713 | C9: ='Monthly returns and RF'!C9-'Monthly returns and RF'!$E9 -> -0.03620854 | D9: ='Monthly returns and RF'!D9-'Monthly returns and RF'!$E9 -> -0.016672536
A10: ='Monthly returns and RF'!A10 -> 2005-08 | B10: ='Monthly returns and RF'!B10-'Monthly returns and RF'!$E10 -> -0.012374345 | C10: ='Monthly returns and RF'!C10-'Monthly returns and RF'!$E10 -> 0.031765538 | D10: ='Monthly returns and RF'!D10-'Monthly returns and RF'!$E10 -> 0.010545115
A11: ='Monthly returns and RF'!A11 -> 2005-09 | B11: ='Monthly returns and RF'!B11-'Monthly returns and RF'!$E11 -> 0.005124997 | C11: ='Monthly returns and RF'!C11-'Monthly returns and RF'!$E11 -> -0.039028738 | D11: ='Monthly returns and RF'!D11-'Monthly returns and RF'!$E11 -> 0.073136846
A12: ='Monthly returns and RF'!A12 -> 2005-10 | B12: ='Monthly returns and RF'!B12-'Monthly returns and RF'!$E12 -> -0.026350898 | C12: ='Monthly returns and RF'!C12-'Monthly returns and RF'!$E12 -> -0.025109371 | D12: ='Monthly returns and RF'!D12-'Monthly returns and RF'!$E12 -> -0.0091239664
A13: ='Monthly returns and RF'!A13 -> 2005-11 | B13: ='Monthly returns and RF'!B13-'Monthly returns and RF'!$E13 -> 0.040852552 | C13: ='Monthly returns and RF'!C13-'Monthly returns and RF'!$E13 -> 0.0038026057 | D13: ='Monthly returns and RF'!D13-'Monthly returns and RF'!$E13 -> 0.055089587
... A263: ='Monthly returns and RF'!A263 -> 2026-09 | B263: ='Monthly returns and RF'!B263-'Monthly returns and RF'!$E263 -> -0.0063934178 | C263: ='Monthly returns and RF'!C263-'Monthly returns and RF'!$E263 -> -0.05692884 | D263: ='Monthly returns and RF'!D263-'Monthly returns and RF'!$E263 -> -0.070628564
